BEGIN:VCALENDAR
VERSION:2.0
PRODID:icalendar-ruby
CALSCALE:GREGORIAN
METHOD:PUBLISH
BEGIN:VEVENT
DTSTAMP:20260422T173517Z
UID:21-412424@newmanna.tithelysetup5.com
DTSTART:20260810T010000Z
DTEND:20260921T020000Z
CLASS:PUBLIC
CREATED:20260422T082324
DESCRIPTION:
LAST-MODIFIED:20260422T082324
LOCATION:3824 Wembley Ave Moss Point\, MS
SUMMARY:19th year Pastoral Anniversary 
URL;VALUE=URI:https://www.newmannainternationalministries.com/events/19th-y
 ear-pastoral-anniversary/2026-08-09
END:VEVENT
END:VCALENDAR
