BEGIN:VCALENDAR
VERSION:2.0
PRODID:icalendar-ruby
CALSCALE:GREGORIAN
METHOD:PUBLISH
BEGIN:VEVENT
DTSTAMP:20260422T235234Z
UID:21-413020@newmanna.tithelysetup5.com
DTSTART:20260907T010000Z
DTEND:20261019T020000Z
CLASS:PUBLIC
CREATED:20260422T141327
DESCRIPTION:
LAST-MODIFIED:20260422T141327
LOCATION:3824 Wembley Ave Moss Point\, MS
SUMMARY:19th year Pastoral Anniversary 
URL;VALUE=URI:https://www.newmannainternationalministries.com/events/19th-y
 ear-pastoral-anniversary/2026-09-06
END:VEVENT
END:VCALENDAR
