BEGIN:VCALENDAR
VERSION:2.0
PRODID:icalendar-ruby
CALSCALE:GREGORIAN
METHOD:PUBLISH
BEGIN:VEVENT
DTSTAMP:20260423T030643Z
UID:21-413614@newmanna.tithelysetup5.com
DTSTART:20260921T010000Z
DTEND:20261102T030000Z
CLASS:PUBLIC
CREATED:20260422T195916
DESCRIPTION:
LAST-MODIFIED:20260422T195916
LOCATION:3824 Wembley Ave Moss Point\, MS
SUMMARY:19th year Pastoral Anniversary 
URL;VALUE=URI:https://www.newmannainternationalministries.com/events/19th-y
 ear-pastoral-anniversary/2026-09-20
END:VEVENT
END:VCALENDAR
