BEGIN:VCALENDAR
VERSION:2.0
PRODID:icalendar-ruby
CALSCALE:GREGORIAN
METHOD:PUBLISH
BEGIN:VEVENT
DTSTAMP:20260423T083614Z
UID:5-413576@newmanna.tithelysetup5.com
DTSTART:20261011T173000Z
DTEND:20261011T183000Z
CLASS:PUBLIC
CREATED:20260422T195916
DESCRIPTION:Sunday Worship
LAST-MODIFIED:20260422T195916
LOCATION:
SUMMARY:Sunday Worship
URL;VALUE=URI:https://www.newmannainternationalministries.com/events/sunday
 -worship/2026-10-11
END:VEVENT
END:VCALENDAR
