BEGIN:VCALENDAR
VERSION:2.0
PRODID:icalendar-ruby
CALSCALE:GREGORIAN
METHOD:PUBLISH
BEGIN:VEVENT
DTSTAMP:20260421T105723Z
UID:5-410025@newmanna.tithelysetup5.com
DTSTART:20261018T173000Z
DTEND:20261018T183000Z
CLASS:PUBLIC
CREATED:20260420T180601
DESCRIPTION:Sunday Worship
LAST-MODIFIED:20260420T180601
LOCATION:
SUMMARY:Sunday Worship
URL;VALUE=URI:https://www.newmannainternationalministries.com/events/sunday
 -worship/2026-10-18
END:VEVENT
END:VCALENDAR
