BEGIN:VCALENDAR
VERSION:2.0
PRODID:icalendar-ruby
CALSCALE:GREGORIAN
METHOD:PUBLISH
BEGIN:VEVENT
DTSTAMP:20260421T125547Z
UID:5-410322@newmanna.tithelysetup5.com
DTSTART:20261025T173000Z
DTEND:20261025T183000Z
CLASS:PUBLIC
CREATED:20260421T051255
DESCRIPTION:Sunday Worship
LAST-MODIFIED:20260421T051255
LOCATION:
SUMMARY:Sunday Worship
URL;VALUE=URI:https://www.newmannainternationalministries.com/events/sunday
 -worship/2026-10-25
END:VEVENT
END:VCALENDAR
