BEGIN:VCALENDAR
VERSION:2.0
PRODID:icalendar-ruby
CALSCALE:GREGORIAN
METHOD:PUBLISH
BEGIN:VEVENT
DTSTAMP:20260421T145153Z
UID:5-410619@newmanna.tithelysetup5.com
DTSTART:20261101T183000Z
DTEND:20261101T193000Z
CLASS:PUBLIC
CREATED:20260421T074818
DESCRIPTION:Sunday Worship
LAST-MODIFIED:20260421T074818
LOCATION:
SUMMARY:Sunday Worship
URL;VALUE=URI:https://www.newmannainternationalministries.com/events/sunday
 -worship/2026-11-01
END:VEVENT
END:VCALENDAR
